BEGIN:VCALENDAR
VERSION:2.0
PRODID:-//UMAI - ECPv6.15.20//NONSGML v1.0//EN
CALSCALE:GREGORIAN
METHOD:PUBLISH
X-WR-CALNAME:UMAI
X-ORIGINAL-URL:https://www.maimonides.edu
X-WR-CALDESC:Eventos para UMAI
REFRESH-INTERVAL;VALUE=DURATION:PT1H
X-Robots-Tag:noindex
X-PUBLISHED-TTL:PT1H
BEGIN:VTIMEZONE
TZID:America/Sao_Paulo
BEGIN:STANDARD
TZOFFSETFROM:-0300
TZOFFSETTO:-0300
TZNAME:-03
DTSTART:20250101T000000
END:STANDARD
END:VTIMEZONE
BEGIN:VEVENT
DTSTART;TZID=America/Sao_Paulo:20260425T220000
DTEND;TZID=America/Sao_Paulo:20260425T220000
DTSTAMP:20260421T050406
CREATED:20260113T154043Z
LAST-MODIFIED:20260420T183438Z
UID:103377-1777154400-1777154400@www.maimonides.edu
SUMMARY:Seminario / Debate: Contribución a la no violencia desde un enfoque relacional
DESCRIPTION:Días y horario: 25 de abril 2026 | 10 a 13 hs\nModalidad: Virtual.\nOrganiza: Carrera de Licenciatura en Musicoterapia de UMAI.\nDisertante: Lic. Rubén Gallardo*.\nDirigido a: Profesionales de la Salud y Salud Mental\, Educación Especial y Discapacidad. \nActividad no arancelada. Se entrega certificado de asistencia. \n\nInscribirme\n\nLa violencia que observamos en la sociedad tiene\, en gran medida\, su origen en la naturalización de respuestas desconsideradas hacia los niños —conscientes o inconscientes\, voluntarias o involuntarias— ejercidas por padres\, familiares\, docentes\, terapeutas y adultos en general. Estas formas de vinculación suelen reproducirse en relaciones desiguales de poder a lo largo de la vida\, generando modos de relación que pueden perpetuar la violencia o la sumisión.\nEsta jornada de reflexión y debate propone analizar el origen de estas respuestas desde un enfoque relacional y marcar una dirección que sintetice una posición ética frente al paciente y frente a los vínculos que establecemos en todas las etapas de la vida: niñez\, adolescencia\, adultez y vejez.\nA partir del intercambio con los participantes\, se busca contribuir a comprender estas dinámicas y promover acciones cotidianas que permitan revertir sus consecuencias. \nPara más información: cursosyactividades@maimonides.edu \nLic.Rubén Gallardo: Licenciado en Musicoterapia de la Universidad del Salvador (USAL); Administrador Hospitalario por la Asociación Médica Argentina (AMA) y Especialista en Gerontología Social de UMAI. Es creador\, director y docente de la carrera de Musicoterapia de UMAI; miembro titular y fundador de la Asociación Musicoterapeutas de Argentina (AMDAR)\, de la Asociación Argentina de Salud Mental (AASM) y del Congreso Argentino de Musicoterapia Clínica. Es autor de libros como «Musicoterapia y Salud Mental»; «Teoría general de la Musicoterapia» y «Musicoterapia: Introducción a los Conceptos del Nuevo Paradigma»\, entre otros.
URL:https://www.maimonides.edu/evento/seminario-debate-contribucion-a-la-no-violencia-desde-un-enfoque-relacional/
LOCATION:Actividad de Extensión
CATEGORIES:Facultad de Ciencias Sociales
ATTACH;FMTTYPE=image/jpeg:https://www.maimonides.edu/wp-content/uploads/2026/04/20260408-Contribucion-a-la-no-violencia.jpg
END:VEVENT
BEGIN:VEVENT
DTSTART;TZID=America/Sao_Paulo:20260430T180000
DTEND;TZID=America/Sao_Paulo:20260430T200000
DTSTAMP:20260421T050406
CREATED:20250818T213027Z
LAST-MODIFIED:20260420T183357Z
UID:102198-1777572000-1777579200@www.maimonides.edu
SUMMARY:Día Internacional de la Concientización sobre el Autismo
DESCRIPTION:Día y horario: 30 de abril 2026 | 18 a 20 hs\nModalidad: Presencial (Hidalgo 775\, CABA)\nOrganizan: Vocación de Ser – Taller de Comunicación y Habilidades Sociales y carrera de Licenciatura en Psicología de UMAI.\nCoordinan: Fgo. Fernando Paz y Dra. Gisela Matrángolo.\nDirigido a: Personas con autismo\, familiares\, estudiantes\, profesionales de la salud y la educación\, y comunidad en general. \nActividad no arancelada. Se entrega certificado de asistencia. \n\nInscribirme\n\nComo cierre del mes de Concientización sobre el Autismo\, se realizará un encuentro orientado a visibilizar y reflexionar sobre los desafíos y oportunidades en la vida adulta de las personas con Trastorno del Espectro Autista (TEA).\nLa propuesta tendrá como eje central el desarrollo de la comunicación y las habilidades sociales en personas adultas\, reconociendo su importancia en la construcción de vínculos\, la inclusión social y el acceso a distintos ámbitos de la vida cotidiana\, como el educativo\, laboral y comunitario.\nA través de un espacio de intercambio entre profesionales\, estudiantes y la comunidad\, se compartirán Como cierre del mes de Concientización sobre el Autismo\, se realizará un encuentro orientado a visibilizar y reflexionar sobre los desafíos y oportunidades en la vida adulta de las personas con Trastorno del Espectro Autista (TEA).\nLa propuesta tendrá como eje central el desarrollo de la comunicación y las habilidades sociales en personas adultas\, reconociendo su importancia en la construcción de vínculos\, la inclusión social y el acceso a distintos ámbitos de la vida cotidiana\, como el educativo\, laboral y comunitario.\nA través de un espacio de intercambio entre profesionales\, estudiantes y la comunidad\, se compartirán estrategias basadas en evidencia\, recursos y herramientas que favorezcan la enseñanza y generalización de estas habilidades en contextos reales\, promoviendo una mirada integral que respete la diversidad dentro del espectro y fomente la autonomía\, recursos y herramientas que favorezcan la enseñanza y generalización de estas habilidades en contextos reales\, promoviendo una mirada integral que respete la diversidad dentro del espectro y fomente la autonomía. \nPara más información: cursosyactividades@maimonides.edu \nFgo. Fernando Paz\nFonoaudiólogo. Instructor en Mindfulness (MBSR). Especialista en técnicas educativas terapéuticas para personas con trastornos del neurodesarrollo. Director de Cosquín C.E.T. (Centro Educativo Terapéutico). Director de Vocación de Ser y docente en UMAI e ISALUD. \nDra. Gisela Matrángolo\nDoctora en Psicología. Especialista en psicoterapia cognitiva. Psicopedagoga. Coordinadora Pedagógica de Cosquín C.E.T. (Centro Educativo Terapéutico). Coordinadora de la Licenciatura en Psicología de UMAI y docente en UMAI y UBA.
URL:https://www.maimonides.edu/evento/dia-internacional-de-la-concientizacion-sobre-el-autismo/
LOCATION:Actividad de Extensión
CATEGORIES:Facultad de Ciencias Sociales
ATTACH;FMTTYPE=image/jpeg:https://www.maimonides.edu/wp-content/uploads/2025/08/20260420-Concientizacion-sobre-el-Autismo.jpg
END:VEVENT
END:VCALENDAR