BEGIN:VCALENDAR
VERSION:2.0
PRODID:-//UMAI - ECPv6.15.20//NONSGML v1.0//EN
CALSCALE:GREGORIAN
METHOD:PUBLISH
X-WR-CALNAME:UMAI
X-ORIGINAL-URL:https://www.maimonides.edu
X-WR-CALDESC:Eventos para UMAI
REFRESH-INTERVAL;VALUE=DURATION:PT1H
X-Robots-Tag:noindex
X-PUBLISHED-TTL:PT1H
BEGIN:VTIMEZONE
TZID:America/Sao_Paulo
BEGIN:STANDARD
TZOFFSETFROM:-0300
TZOFFSETTO:-0300
TZNAME:-03
DTSTART:20250101T000000
END:STANDARD
END:VTIMEZONE
BEGIN:VEVENT
DTSTART;TZID=America/Sao_Paulo:20260424T110000
DTEND;TZID=America/Sao_Paulo:20260424T130000
DTSTAMP:20260423T022158
CREATED:20260112T145418Z
LAST-MODIFIED:20260422T211445Z
UID:104302-1777028400-1777035600@www.maimonides.edu
SUMMARY:Charla: Introducción a la Esclerosis Lateral Amiotrófica (ELA)
DESCRIPTION:Día y horario: Viernes 24 de abril 2026 | 11 a 13 hs\nModalidad: Presencial (Hidalgo 775 – CABA).\nOrganizan: Fundación Esteban Bullrich y Universidad Maimónides.\nDisertantes: Agustina Bugnard (Directora de la Fundación Esteban Bullrich)\, Dra. Gisella Gargiulo (neuróloga) y la participación de un testimonio de un paciente.\nDirigido a: Profesionales y estudiantes de carreras de Salud. Pacientes con ELA y familiares. \nActividad no arancelada. Cupos limitados. \n\nInscribirme\n\nLa Esclerosis Lateral Amiotrófica (ELA) es una enfermedad que afecta las células nerviosas del cerebro y la médula espinal\, causando pérdida en el control muscular. Esta enfermedad compromete el sistema motor\, produciendo atrofia muscular\, disminución de la fuerza de los músculos de los miembros superiores e inferiores\, disartria y afecta la deglución\, entre otras dificultades. Lamentablemente\, aún no se ha descubierto la cura. \n“La concientización sobre la esclerosis lateral amiotrófica (ELA) es clave debido a su impacto en la calidad de vida de las personas afectadas y sus familias. Es por esto que decidimos llevar adelante en todo el país una agenda de capacitaciones\, acciones de concientización y difusión que ayuden a que la ELA sea conocida por cada vez más personas”\, señala la directora ejecutiva de la Fundación\, Agustina Bugnard. \nContenidos de la charla:\n– Introducción a la Esclerosis Lateral Amiotrófica (ELA):\n– Generalidades de la enfermedad: Definición y etiología de la ELA.\n– Epidemiología\, fisiopatología\, clínica.\n– Síntomas iniciales y progresión de la enfermedad.\n– Diagnóstico\, tratamientos multidisciplinario y sintomático. \nAcerca de la Fundación Esteban Bullrich\nLa Fundación Esteban Bullrich fue creada en 2022 con el objetivo de trabajar para mejorar la calidad de vida de quienes atraviesan la Esclerosis Lateral Amiotrófica (ELA). Entre sus objetivos se encuentran: brindar acompañamiento a los pacientes y sus familias\, promover el estudio y la investigación para encontrar una cura para la ELA\, fomentar la concientización y difusión de la ELA para promover su diagnóstico temprano\, apoyar el perfeccionamiento profesional de trabajadores de la salud y estudiantes. \nPara más información: cursosyactividades@maimonides.edu \n 
URL:https://www.maimonides.edu/evento/charla-introduccion-a-la-esclerosis-lateral-amiotrofica-ela/
LOCATION:Actividad de Extensión
CATEGORIES:Facultad de Ciencias de la Salud
ATTACH;FMTTYPE=image/jpeg:https://www.maimonides.edu/wp-content/uploads/2026/03/20260319-Introduccion-a-la-Esclerosis.jpg
END:VEVENT
BEGIN:VEVENT
DTSTART;TZID=America/Sao_Paulo:20260424T140000
DTEND;TZID=America/Sao_Paulo:20260424T170000
DTSTAMP:20260423T022158
CREATED:20260112T145520Z
LAST-MODIFIED:20260422T211922Z
UID:104299-1777039200-1777050000@www.maimonides.edu
SUMMARY:Jornada de la Sociedad Argentina para la Preservación de la Fertilidad (SAPREF)
DESCRIPTION:Día y horario: 24 de abril 2026 | 14 a 17 hs\nModalidad: Presencial (Hidalgo 775 – CABA).\nOrganizan: Sociedad Argentina para la Preservación de la Fertilidad (SAPREF) y Universidad Maimóndes (UMAI).\nCoordinadora: Dra. María Itatí Albamonte\, presidente de SAPREF.\nDisertantes: Dra. Fernanda Parborell\, Dr. Francisco Vitale. Dra. Andrea Coscia\, Fga. Valeska González Lic. Teresa Méndez\, Lic. Andrea Ayoroa\, Dr. Ramiro Ludueña y Sra. María Carolina Núñez.\nDirigido a: Profesionales de la salud y áreas afines. \nActividad sin cargo. Se entrega certificado de asistencia. \n\nInscribirme\n\nInvitamos a participar de un espacio académico destinado a la actualización y el intercambio en torno a temáticas relevantes en reproducción y fertilidad.\nEl programa incluye exposiciones sobre el impacto de los disruptores endocrinos en la reproducción y los avances en preservación de la fertilidad\, a cargo de reconocidos especialistas. Asimismo\, se desarrollará una mesa redonda sobre el abordaje multidisciplinario en la preservación de la fertilidad\, que contará con la participación de profesionales de distintas áreas y los valiosos testimonios de dos pacientes\, promoviendo una mirada integral de la temática. \nPrograma:\n14:00 Palabras de Bienvenida y Apertura – Dra. María Itatí Albamonte.\n14:10 Disruptores endocrinos: impacto en la reproducción – Disruptores endocrinos: impacto en la reproducción. Dra. Fernanda Parborell (IbyME). Moderadores: Dra. Karina Maidana y Bioq. Eduardo Moratto.\n15:00 Oncofertilidad: nuevas tecnologías para preservar la fertilidad. Dr. Francisco Vitale. Moderadores: Dra. Ma. Itatí Albamonte y Dra. Carlota Lucini.\n15:45 Break\n16:00 Mesa redonda: Abordaje Multidisciplinario en la Preservación de la Fertilidad. Fga. Valeska González. Moderación: Dra. Andrea Coscia. Disertantes: Lic. Teresa Méndez\, Lic. Andrea Ayoroa\, Dr. Ramiro Ludueña y Sra. María Carolina Núñez.\n17:00 Cierre \nDra. Itatí Albamonte: Lic. en genética y doctora por la UBA. Investigadora en el Laboratorio de Reproducción Humana en el Departamento de Investigaciones Biomédicas y Biotecnológicas del CEBBAD\, Universidad Maimonides. Docente en UMAI y coordinadora en el Vicerrectorado de Ciencia y Tecnología de dicha Universidad. Presidente de la Sociedad Argentina para la Preservación de la Fertilidad (SAPREF).\nDra. María Fernanda Parborell: Licenciada en Ciencias Biológicas con orientación Biología Molecular. Doctora en Ciencias Químicas con Orientación en Química Biológica. Investigadora Independiente de la carrera de CONICET. Directora del laboratorio “Estudios de la Fisiopatología del Ovario”\, Instituto de Biología y Medicina Experimental”\, CONICET.\nDr. Francisco Vitale: Médico. Doctorado en Ciencias Biomédicas (Ph.D.) – Preservación de la fertilidad femenina. Experto Universitario en Genética y Genómica. Miembro de la European Society of Human Reproduction and Embryology. Miembro de la International Society for Fertility Preservation. Miembro de la Belgian Society for Reproductive Medicine. Miembro de la Sociedad Argentina de Endocrinología Ginecológica y Reproductiva. Miembro de la Sociedad Argentina de Medicina Reproductiva.\nLic. Andrea Ayoroa: Licenciada en Servicio Social y Trabajadora Social. Ha trabajado en los hospitales “Leónidas Lucero” y “Dr. A. Cetrángolo”\, especializándose en el sector salud. Coordina el Área de Apoyo al Tratamiento de la Fundación Natalí Dafne Flexer.\nDra. Andrea Coscia: Médica. Especialista en Ginecología y Obstetricia. Especialista en Medicina Reproductiva otorgado por SAMER. Especialista en Endocrinología Ginecológica y de la Reproducción otorgado por la Universidad Favaloro. Coordinadora del Programa de Preservación de la Fertilidad de CEGyR. Tutora de la Red Latinoamericana de Reproducción Asistida. Miembro de la Sociedad Argentina de Medicina Reproductiva.\nLic. Teresa Méndez: Licenciada en Psicología y profesora de Filosofía. Especializada en psicooncología y cuidados paliativos. Coordina el área de Apoyo Psicológico de la Fundación Natalí Dafne Flexer.\nDr. Ramiro Ludueña: Médico egresado de la UBA (2017)\, es especialista en Pediatría con formación completa en el Hospital Posadas y una beca de perfeccionamiento en Medicina Interna Pediátrica en el Hospital Universitario Austral (2023–2025). Cuenta con experiencia clínica en guardia\, internación y oncología pediátrica\, además de antecedentes en docencia y jefatura de residentes. Participa activamente en formación continua y es miembro de la Sociedad Argentina de Pediatría.\nFga. Valeska González Morales: Fonoaudióloga chilena\, narra una vida marcada por el cáncer desde la adolescencia\, cuando fue diagnosticada con linfoma a los 13 años.\nMaría Carolina Nuñez: Pastelera y ciclista argentina. Fue diagnosticada a los 13 años con Linfoma de Hodgkin. Fue atendida durante su tratamiento en el Htal. Nacional A. Posadas. \nPara más información: cursosyactividades@maimonides.edu \n 
URL:https://www.maimonides.edu/evento/jornada-de-la-sociedad-argentina-para-la-preservacion-de-la-fertilidad-sapref/
LOCATION:Actividad de Extensión
CATEGORIES:Facultad de Ciencias de la Salud
ATTACH;FMTTYPE=image/jpeg:https://www.maimonides.edu/wp-content/uploads/2026/03/20260330-Preservacion-de-la-Fertilidad.jpg
END:VEVENT
END:VCALENDAR